BEGIN:VCALENDAR
VERSION:2.0
PRODID:-//Davies Office - ECPv6.15.17.1//NONSGML v1.0//EN
CALSCALE:GREGORIAN
METHOD:PUBLISH
X-WR-CALNAME:Davies Office
X-ORIGINAL-URL:https://www.daviesoffice.com
X-WR-CALDESC:Events for Davies Office
REFRESH-INTERVAL;VALUE=DURATION:PT1H
X-Robots-Tag:noindex
X-PUBLISHED-TTL:PT1H
BEGIN:VTIMEZONE
TZID:UTC
BEGIN:STANDARD
TZOFFSETFROM:+0000
TZOFFSETTO:+0000
TZNAME:UTC
DTSTART:20230101T000000
END:STANDARD
END:VTIMEZONE
BEGIN:VEVENT
DTSTART;TZID=UTC:20240506T080000
DTEND;TZID=UTC:20240506T170000
DTSTAMP:20260424T120009
CREATED:20240105T042531Z
LAST-MODIFIED:20240218T204739Z
UID:10149-1714982400-1715014800@www.daviesoffice.com
SUMMARY:IFMA Facility Fusion in Boston\, MA: May 6th\, 2024
DESCRIPTION:As a corporate sponsor\, Davies Office will be exhibiting at IFMA (International Facility Management Association) Facility Fusion in Boston\, Massachusetts on May 6th\, 2024. \nCheck back for more information\, such as our booth number and our daily agenda. \n  \nSee Facility Fusion’s event website
URL:https://www.daviesoffice.com/event/ifma-facility-fusion-in-boston-ma-may-6th-2024
ATTACH;FMTTYPE=image/png:https://www.daviesoffice.com/wp-content/uploads/2024/01/facility-fusion-IFMA.png
END:VEVENT
END:VCALENDAR