BEGIN:VCALENDAR
VERSION:2.0
PRODID:-//Davies Office - ECPv6.15.17.1//NONSGML v1.0//EN
CALSCALE:GREGORIAN
METHOD:PUBLISH
X-ORIGINAL-URL:https://www.daviesoffice.com
X-WR-CALDESC:Events for Davies Office
REFRESH-INTERVAL;VALUE=DURATION:PT1H
X-Robots-Tag:noindex
X-PUBLISHED-TTL:PT1H
BEGIN:VTIMEZONE
TZID:UTC
BEGIN:STANDARD
TZOFFSETFROM:+0000
TZOFFSETTO:+0000
TZNAME:UTC
DTSTART:20230101T000000
END:STANDARD
END:VTIMEZONE
BEGIN:VEVENT
DTSTART;TZID=UTC:20241009T113000
DTEND;TZID=UTC:20241010T133000
DTSTAMP:20260424T161200
CREATED:20230919T030506Z
LAST-MODIFIED:20241017T034403Z
UID:10115-1728473400-1728567000@www.daviesoffice.com
SUMMARY:IFMA World Workplace in San Antonio\, TX: October 9th and 10th\, 2024
DESCRIPTION:As a corporate sponsor\, Davies Office will be exhibiting at IFMA Word Workplace in San Antonio\, TX in October of 2024 \nPlease visit us at booth #2609 in EXPO Hall\n \nDaily Schedule:\nWednesday\, 10/9:\nWe are sponsoring the opening keynote speaker\, Emmitt Smith\, at 10:00 a.m.\n \nWednesday\, 10/9:\nEXPO HALL from 11:30 a.m. – 5:00 p.m. \nThursday\, 10/10:\nin EXPO HALL from 9:30 a.m. – 1:30 p.m. \n  \nAbout IFMA:\nIFMA’s World Workplace® is the largest\, most highly acclaimed facility management conference in the world. \nEstablished in 1995\, World Workplace is the original forum for groundbreaking discussions on facility management and the wider built environment. \nIt’s where all workplace professionals come to discover innovative FM technologies\, build valuable relationships and sharpen essential skills. \n  \n 
URL:https://www.daviesoffice.com/event/davies-to-exhibit-at-ifma-world-workplace-in-san-antonio-tx
ATTACH;FMTTYPE=image/png:https://www.daviesoffice.com/wp-content/uploads/2024/01/facility-fusion-IFMA.png
END:VEVENT
END:VCALENDAR